BEGIN:VCALENDAR
VERSION:2.0
PRODID:-//www.ketchikanarts.org//NONSGML kigkonsult.se iCalcreator 2.30.10/
 /
CALSCALE:GREGORIAN
METHOD:PUBLISH
UID:f2d31c0b-3699-450c-bfec-769bd96140fc
X-WR-CALDESC:
X-WR-RELCALID:da0038931e7075ae06ebbda4d6c33740
X-WR-TIMEZONE:America/Anchorage
BEGIN:VTIMEZONE
TZID:America/Anchorage
BEGIN:STANDARD
TZNAME:AKST
DTSTART:20231105T020000
TZOFFSETFROM:-0800
TZOFFSETTO:-0900
RDATE:20241103T020000
END:STANDARD
BEGIN:DAYLIGHT
TZNAME:AKDT
DTSTART:20230312T020000
TZOFFSETFROM:-0900
TZOFFSETTO:-0800
RDATE:20240310T020000
RDATE:20250309T020000
END:DAYLIGHT
END:VTIMEZONE
BEGIN:VEVENT
UID:5dffbc80-7830-47bc-93c6-5135200c178a
DTSTAMP:20260422T060840Z
DESCRIPTION:
DTSTART;TZID=America/Anchorage:20231204T173000
DTEND;TZID=America/Anchorage:20231204T193000
LOCATION:Main Street Gallery
SUMMARY:BOOMbal Dancehall
END:VEVENT
END:VCALENDAR
