BEGIN:VCALENDAR
VERSION:2.0
PRODID:-//www.ketchikanarts.org//NONSGML kigkonsult.se iCalcreator 2.30.10/
 /
CALSCALE:GREGORIAN
METHOD:PUBLISH
UID:a0c8edc3-69d6-4c3a-81df-df968e5b228e
X-WR-CALDESC:Sign up sheets and class supply list are available at Studio 1
 03!!!\n\nQuilt Guild members $45\nNon Quilt Guild Members $50
X-WR-RELCALID:c9623bd16127ff80e50cabd0dbc70c56
X-WR-TIMEZONE:America/Anchorage
BEGIN:VTIMEZONE
TZID:America/Anchorage
BEGIN:STANDARD
TZNAME:AKST
DTSTART:20231105T020000
TZOFFSETFROM:-0800
TZOFFSETTO:-0900
RDATE:20241103T020000
END:STANDARD
BEGIN:DAYLIGHT
TZNAME:AKDT
DTSTART:20230312T020000
TZOFFSETFROM:-0900
TZOFFSETTO:-0800
RDATE:20240310T020000
RDATE:20250309T020000
END:DAYLIGHT
END:VTIMEZONE
BEGIN:VEVENT
UID:15f1416d-3ef2-46dc-92cc-9d40f15f73a7
DTSTAMP:20260422T061834Z
DESCRIPTION:Sign up sheets and class supply list are available at Studio 10
 3!!!\n\nQuilt Guild members $45\nNon Quilt Guild Members $50
DTSTART;TZID=America/Anchorage:20231202T090000
DTEND;TZID=America/Anchorage:20231202T160000
LOCATION:S. Tongass Fire Station
SUMMARY:Quilt Class - taught by Peggy Gelbrich
END:VEVENT
END:VCALENDAR
