BEGIN:VCALENDAR
VERSION:2.0
PRODID:-//www.ketchikanarts.org//NONSGML kigkonsult.se iCalcreator 2.30.10/
 /
CALSCALE:GREGORIAN
METHOD:PUBLISH
UID:3cef32cb-c13d-4c5e-b19c-fb3724623d41
X-WR-CALDESC:Sign up sheets and class supply list are available at Studio 1
 03!!!\n\nQuilt Guild members $45\nNon Quilt Guild Members $50
X-WR-RELCALID:f92159fd81516d28087b6cc9a3958156
X-WR-TIMEZONE:America/Anchorage
BEGIN:VTIMEZONE
TZID:America/Anchorage
BEGIN:STANDARD
TZNAME:AKST
DTSTART:20231105T020000
TZOFFSETFROM:-0800
TZOFFSETTO:-0900
RDATE:20241103T020000
END:STANDARD
BEGIN:DAYLIGHT
TZNAME:AKDT
DTSTART:20230312T020000
TZOFFSETFROM:-0900
TZOFFSETTO:-0800
RDATE:20240310T020000
RDATE:20250309T020000
END:DAYLIGHT
END:VTIMEZONE
BEGIN:VEVENT
UID:3ab91939-fb5c-44d3-9958-55a6822885bd
DTSTAMP:20260422T062009Z
DESCRIPTION:Sign up sheets and class supply list are available at Studio 10
 3!!!\n\nQuilt Guild members $45\nNon Quilt Guild Members $50
DTSTART;TZID=America/Anchorage:20231201T090000
DTEND;TZID=America/Anchorage:20231201T160000
LOCATION:S. Tongass Fire Station
SUMMARY:Quilt Class - taught by Peggy Gelbrich
END:VEVENT
END:VCALENDAR
