BEGIN:VCALENDAR
VERSION:2.0
PRODID:-//www.ketchikanarts.org//NONSGML kigkonsult.se iCalcreator 2.30.10/
 /
CALSCALE:GREGORIAN
METHOD:PUBLISH
UID:263a7fbe-40d9-46d2-b192-73420a65c85f
X-WR-CALDESC:
X-WR-RELCALID:badf4744bf358a3a7206e33240981c53
X-WR-TIMEZONE:America/Anchorage
BEGIN:VTIMEZONE
TZID:America/Anchorage
BEGIN:STANDARD
TZNAME:AKST
DTSTART:20221106T020000
TZOFFSETFROM:-0800
TZOFFSETTO:-0900
RDATE:20231105T020000
RDATE:20241103T020000
END:STANDARD
BEGIN:DAYLIGHT
TZNAME:AKDT
DTSTART:20230312T020000
TZOFFSETFROM:-0900
TZOFFSETTO:-0800
RDATE:20240310T020000
RDATE:20250309T020000
END:DAYLIGHT
END:VTIMEZONE
BEGIN:VEVENT
UID:97909eed-bce0-4256-915c-840c19482897
DTSTAMP:20260422T081447Z
DESCRIPTION:
DTSTART;TZID=America/Anchorage:20231106T190000
DTEND;TZID=America/Anchorage:20231106T203000
LOCATION:
SUMMARY:Ketchikan Community Concert Band Rehearses
END:VEVENT
END:VCALENDAR
