BEGIN:VCALENDAR
VERSION:2.0
PRODID:-//www.ketchikanarts.org//NONSGML kigkonsult.se iCalcreator 2.30.10/
 /
CALSCALE:GREGORIAN
METHOD:PUBLISH
UID:62af7967-54ce-43a6-84c8-1e2ef07ea711
X-WR-CALDESC:
X-WR-RELCALID:1975fa44fa14bdb6b1b9cf58ff383539
X-WR-TIMEZONE:America/Anchorage
BEGIN:VTIMEZONE
TZID:America/Anchorage
BEGIN:STANDARD
TZNAME:AKST
DTSTART:20221106T020000
TZOFFSETFROM:-0800
TZOFFSETTO:-0900
RDATE:20231105T020000
RDATE:20241103T020000
END:STANDARD
BEGIN:DAYLIGHT
TZNAME:AKDT
DTSTART:20230312T020000
TZOFFSETFROM:-0900
TZOFFSETTO:-0800
RDATE:20240310T020000
RDATE:20250309T020000
END:DAYLIGHT
END:VTIMEZONE
BEGIN:VEVENT
UID:465f414c-14e2-45be-9313-1fceeef3face
DTSTAMP:20260422T092942Z
DESCRIPTION:
DTSTART;TZID=America/Anchorage:20231030T190000
DTEND;TZID=America/Anchorage:20231030T203000
LOCATION:
SUMMARY:Ketchikan Community Concert Band Rehearses
END:VEVENT
END:VCALENDAR
