BEGIN:VCALENDAR
VERSION:2.0
PRODID:-//www.ketchikanarts.org//NONSGML kigkonsult.se iCalcreator 2.30.10/
 /
CALSCALE:GREGORIAN
METHOD:PUBLISH
UID:a5876451-0576-4a6f-9e88-5eb32093d446
X-WR-CALDESC:
X-WR-RELCALID:43b2e479bda6f8261d7e0343be5fc9ec
X-WR-TIMEZONE:America/Anchorage
BEGIN:VTIMEZONE
TZID:America/Anchorage
BEGIN:STANDARD
TZNAME:AKST
DTSTART:20221106T020000
TZOFFSETFROM:-0800
TZOFFSETTO:-0900
RDATE:20231105T020000
RDATE:20241103T020000
END:STANDARD
BEGIN:DAYLIGHT
TZNAME:AKDT
DTSTART:20230312T020000
TZOFFSETFROM:-0900
TZOFFSETTO:-0800
RDATE:20240310T020000
RDATE:20250309T020000
END:DAYLIGHT
END:VTIMEZONE
BEGIN:VEVENT
UID:4f463825-ef37-408b-a8cd-ca6db1bd572c
DTSTAMP:20260422T094240Z
DESCRIPTION:
DTSTART;TZID=America/Anchorage:20231016T190000
DTEND;TZID=America/Anchorage:20231016T203000
LOCATION:
SUMMARY:Ketchikan Community Concert Band Rehearses
END:VEVENT
END:VCALENDAR
