BEGIN:VCALENDAR
VERSION:2.0
PRODID:-//www.ketchikanarts.org//NONSGML kigkonsult.se iCalcreator 2.30.10/
 /
CALSCALE:GREGORIAN
METHOD:PUBLISH
UID:9d40f522-c6c8-4569-80b7-b3b43ff332ed
X-WR-CALDESC:
X-WR-RELCALID:0455096cdb8f8e772926811e731c10ca
X-WR-TIMEZONE:America/Anchorage
BEGIN:VTIMEZONE
TZID:America/Anchorage
BEGIN:STANDARD
TZNAME:AKST
DTSTART:20221106T020000
TZOFFSETFROM:-0800
TZOFFSETTO:-0900
RDATE:20231105T020000
RDATE:20241103T020000
END:STANDARD
BEGIN:DAYLIGHT
TZNAME:AKDT
DTSTART:20230312T020000
TZOFFSETFROM:-0900
TZOFFSETTO:-0800
RDATE:20240310T020000
RDATE:20250309T020000
END:DAYLIGHT
END:VTIMEZONE
BEGIN:VEVENT
UID:93021f01-8632-429a-a463-5cb961688eb9
DTSTAMP:20260422T091921Z
DESCRIPTION:
DTSTART;TZID=America/Anchorage:20231013T163000
DTEND;TZID=America/Anchorage:20231015T173000
LOCATION:
SUMMARY:BOOMbal Dance Hall TANGO Weekend
END:VEVENT
END:VCALENDAR
