BEGIN:VCALENDAR
VERSION:2.0
PRODID:-//www.ketchikanarts.org//NONSGML kigkonsult.se iCalcreator 2.30.10/
 /
CALSCALE:GREGORIAN
METHOD:PUBLISH
UID:8211324f-e79d-4700-82fc-f1f28ab8e678
X-WR-CALDESC:
X-WR-RELCALID:9359795f9907cc3c818e42f6012e6983
X-WR-TIMEZONE:America/Anchorage
BEGIN:VTIMEZONE
TZID:America/Anchorage
BEGIN:STANDARD
TZNAME:AKST
DTSTART:20221106T020000
TZOFFSETFROM:-0800
TZOFFSETTO:-0900
RDATE:20231105T020000
RDATE:20241103T020000
END:STANDARD
BEGIN:DAYLIGHT
TZNAME:AKDT
DTSTART:20230312T020000
TZOFFSETFROM:-0900
TZOFFSETTO:-0800
RDATE:20240310T020000
RDATE:20250309T020000
END:DAYLIGHT
END:VTIMEZONE
BEGIN:VEVENT
UID:a5c58528-7b28-4222-8b94-d37c64e83efd
DTSTAMP:20260422T110530Z
DESCRIPTION:
DTSTART;TZID=America/Anchorage:20230927T183000
DTEND;TZID=America/Anchorage:20230927T200000
LOCATION:
SUMMARY:Ketchikan Chamber Orchestra Rehearsal
END:VEVENT
END:VCALENDAR
