BEGIN:VCALENDAR
VERSION:2.0
PRODID:-//www.ketchikanarts.org//NONSGML kigkonsult.se iCalcreator 2.30.10/
 /
CALSCALE:GREGORIAN
METHOD:PUBLISH
UID:5629d133-6e7b-48c0-ae7f-6b36322f718c
X-WR-CALDESC:
X-WR-RELCALID:f0000c0c9b8d47ace0a9a53c9e5e6986
X-WR-TIMEZONE:America/Anchorage
BEGIN:VTIMEZONE
TZID:America/Anchorage
BEGIN:STANDARD
TZNAME:AKST
DTSTART:20221106T020000
TZOFFSETFROM:-0800
TZOFFSETTO:-0900
RDATE:20231105T020000
RDATE:20241103T020000
END:STANDARD
BEGIN:DAYLIGHT
TZNAME:AKDT
DTSTART:20230312T020000
TZOFFSETFROM:-0900
TZOFFSETTO:-0800
RDATE:20240310T020000
RDATE:20250309T020000
END:DAYLIGHT
END:VTIMEZONE
BEGIN:VEVENT
UID:ff55398e-0768-484c-9502-4c26454b090c
DTSTAMP:20260422T111712Z
DESCRIPTION:
DTSTART;TZID=America/Anchorage:20230925T190000
DTEND;TZID=America/Anchorage:20230925T203000
LOCATION:
SUMMARY:Ketchikan Community Concert Band Rehearses
END:VEVENT
END:VCALENDAR
