BEGIN:VCALENDAR
VERSION:2.0
PRODID:-//www.ketchikanarts.org//NONSGML kigkonsult.se iCalcreator 2.30.10/
 /
CALSCALE:GREGORIAN
METHOD:PUBLISH
UID:9101706f-3222-4ac6-9644-f73b25a734d6
X-WR-CALDESC:Dance to live music played by living people!!! The Free Radica
 ls play music and Callers call all the dances. What could be more fun?\n\n
 $5 at the door\nNo experience needed!
X-WR-RELCALID:cdbfd77df418b6b2b07321ecf5393448
X-WR-TIMEZONE:America/Anchorage
BEGIN:VTIMEZONE
TZID:America/Anchorage
BEGIN:STANDARD
TZNAME:AKST
DTSTART:20221106T020000
TZOFFSETFROM:-0800
TZOFFSETTO:-0900
RDATE:20231105T020000
RDATE:20241103T020000
END:STANDARD
BEGIN:DAYLIGHT
TZNAME:AKDT
DTSTART:20230312T020000
TZOFFSETFROM:-0900
TZOFFSETTO:-0800
RDATE:20240310T020000
END:DAYLIGHT
END:VTIMEZONE
BEGIN:VEVENT
UID:a7713fe7-ec6c-497b-81f0-65677e38a14e
DTSTAMP:20260422T140150Z
DESCRIPTION:Dance to live music played by living people!!! The Free Radical
 s play music and Callers call all the dances. What could be more fun?\n\n$
 5 at the door\nNo experience needed!
DTSTART;TZID=America/Anchorage:20230714T190000
DTEND;TZID=America/Anchorage:20230714T203000
LOCATION:Creek Street Cabaret
SUMMARY:Square Dance!!!
END:VEVENT
END:VCALENDAR
