BEGIN:VCALENDAR
VERSION:2.0
PRODID:-//www.ketchikanarts.org//NONSGML kigkonsult.se iCalcreator 2.30.10/
 /
CALSCALE:GREGORIAN
METHOD:PUBLISH
UID:07ac2e6c-c0c0-41e4-b1b4-5ec0d277d64f
X-WR-CALDESC:Head over to the Ketchikan Public Library for a fabulous time!
X-WR-RELCALID:dd6eb00ef605c9e6a6c3d4c59c72bdf9
X-WR-TIMEZONE:America/Anchorage
BEGIN:VTIMEZONE
TZID:America/Anchorage
BEGIN:STANDARD
TZNAME:AKST
DTSTART:20221106T020000
TZOFFSETFROM:-0800
TZOFFSETTO:-0900
RDATE:20231105T020000
RDATE:20241103T020000
END:STANDARD
BEGIN:DAYLIGHT
TZNAME:AKDT
DTSTART:20230312T020000
TZOFFSETFROM:-0900
TZOFFSETTO:-0800
RDATE:20240310T020000
END:DAYLIGHT
END:VTIMEZONE
BEGIN:VEVENT
UID:c7b6bc7f-f779-432f-8169-197fcc1828c7
DTSTAMP:20260422T140154Z
DESCRIPTION:Head over to the Ketchikan Public Library for a fabulous time!
DTSTART;TZID=America/Anchorage:20230713T160000
DTEND;TZID=America/Anchorage:20230713T170000
LOCATION:
SUMMARY:Dino-mite Craftivity
END:VEVENT
END:VCALENDAR
