BEGIN:VCALENDAR
VERSION:2.0
PRODID:-//www.ketchikanarts.org//NONSGML kigkonsult.se iCalcreator 2.30.10/
 /
CALSCALE:GREGORIAN
METHOD:PUBLISH
UID:0dd3f04f-bc22-4f6b-a491-56029b41b98d
X-WR-CALDESC:Cold wax encaustic class with Sandy Shepard!!! This is the cla
 ss we've all been waiting for!!! Learn cold was encaustic techniques and c
 ombine them with acrylic painting\, and other mediums! Limited spaces avai
 lable for this class!!!\n\nThis is a two-session class June 17 and 18\, 1 
 to 4pm\n\n$65 preregistration per person / $75 week of class
X-WR-RELCALID:f41c164834073c346b0730f41df0e41f
X-WR-TIMEZONE:America/Anchorage
BEGIN:VTIMEZONE
TZID:America/Anchorage
BEGIN:STANDARD
TZNAME:AKST
DTSTART:20221106T020000
TZOFFSETFROM:-0800
TZOFFSETTO:-0900
RDATE:20231105T020000
RDATE:20241103T020000
END:STANDARD
BEGIN:DAYLIGHT
TZNAME:AKDT
DTSTART:20230312T020000
TZOFFSETFROM:-0900
TZOFFSETTO:-0800
RDATE:20240310T020000
END:DAYLIGHT
END:VTIMEZONE
BEGIN:VEVENT
UID:3d411cc1-e414-46d0-91d5-aafff63702e0
DTSTAMP:20260422T155711Z
DESCRIPTION:Cold wax encaustic class with Sandy Shepard!!! This is the clas
 s we've all been waiting for!!! Learn cold was encaustic techniques and co
 mbine them with acrylic painting\, and other mediums! Limited spaces avail
 able for this class!!!\n\nThis is a two-session class June 17 and 18\, 1 t
 o 4pm\n\n$65 preregistration per person / $75 week of class
DTSTART;TZID=America/Anchorage:20230618T130000
DTEND;TZID=America/Anchorage:20230618T160000
LOCATION:Main Street Gallery
SUMMARY:Arts Uncorked with Sandy Shepard!
END:VEVENT
END:VCALENDAR
