BEGIN:VCALENDAR
VERSION:2.0
PRODID:-//www.ketchikanarts.org//NONSGML kigkonsult.se iCalcreator 2.30.10/
 /
CALSCALE:GREGORIAN
METHOD:PUBLISH
UID:118480b5-d1db-4267-b265-0a10086b2ca2
X-WR-CALDESC:Come enjoy a wonderful morning filled with dance!
X-WR-RELCALID:ddb5b12071941fcbac93959c06e17828
X-WR-TIMEZONE:America/Anchorage
BEGIN:VTIMEZONE
TZID:America/Anchorage
BEGIN:STANDARD
TZNAME:AKST
DTSTART:20221106T020000
TZOFFSETFROM:-0800
TZOFFSETTO:-0900
RDATE:20231105T020000
RDATE:20241103T020000
END:STANDARD
BEGIN:DAYLIGHT
TZNAME:AKDT
DTSTART:20230312T020000
TZOFFSETFROM:-0900
TZOFFSETTO:-0800
RDATE:20240310T020000
END:DAYLIGHT
END:VTIMEZONE
BEGIN:VEVENT
UID:6337638a-db07-4556-8a54-7529f4cdfccf
DTSTAMP:20260422T154602Z
DESCRIPTION:Come enjoy a wonderful morning filled with dance!
DTSTART;TZID=America/Anchorage:20230616T094500
DTEND;TZID=America/Anchorage:20230616T120000
LOCATION:
SUMMARY:Boombal Waltz Pop-up Class
END:VEVENT
END:VCALENDAR
