BEGIN:VCALENDAR
VERSION:2.0
PRODID:-//www.ketchikanarts.org//NONSGML kigkonsult.se iCalcreator 2.30.10/
 /
CALSCALE:GREGORIAN
METHOD:PUBLISH
UID:f26700fb-80a8-4969-a17e-0a0680a1a18c
X-WR-CALDESC:\n\nComing up:\n\nBOOMbal Dancehall's June schedule just dropp
 ed!\n\nWith classes in east coast swing dance every Monday of June\n\nWe'l
 l be teaching Swing 101 - foundations class to get new beginners started a
 nd Swing 3\, which is beginner friendly!
X-WR-RELCALID:1de524f068519774d77b7296641d442c
X-WR-TIMEZONE:America/Anchorage
BEGIN:VTIMEZONE
TZID:America/Anchorage
BEGIN:STANDARD
TZNAME:AKST
DTSTART:20221106T020000
TZOFFSETFROM:-0800
TZOFFSETTO:-0900
RDATE:20231105T020000
RDATE:20241103T020000
END:STANDARD
BEGIN:DAYLIGHT
TZNAME:AKDT
DTSTART:20230312T020000
TZOFFSETFROM:-0900
TZOFFSETTO:-0800
RDATE:20240310T020000
END:DAYLIGHT
END:VTIMEZONE
BEGIN:VEVENT
UID:b98f8124-1be7-419b-9e26-9e98728e12d4
DTSTAMP:20260422T154433Z
DESCRIPTION:\n\nComing up:\n\nBOOMbal Dancehall's June schedule just droppe
 d!\n\nWith classes in east coast swing dance every Monday of June\n\nWe'll
  be teaching Swing 101 - foundations class to get new beginners started an
 d Swing 3\, which is beginner friendly!
DTSTART;TZID=America/Anchorage:20230612T174500
DTEND;TZID=America/Anchorage:20230612T193000
LOCATION:
SUMMARY:BOOMbal Dance Hall
END:VEVENT
END:VCALENDAR
