BEGIN:VCALENDAR
VERSION:2.0
PRODID:-//www.ketchikanarts.org//NONSGML kigkonsult.se iCalcreator 2.30.10/
 /
CALSCALE:GREGORIAN
METHOD:PUBLISH
UID:f75f90c3-f0fb-40af-887a-def68fb26ebc
X-WR-CALDESC:Yeah for the return of Square Dance and the Free Radicals!!!
X-WR-RELCALID:41eb503cb61472944c596894ed441bfc
X-WR-TIMEZONE:America/Anchorage
BEGIN:VTIMEZONE
TZID:America/Anchorage
BEGIN:STANDARD
TZNAME:AKST
DTSTART:20221106T020000
TZOFFSETFROM:-0800
TZOFFSETTO:-0900
RDATE:20231105T020000
RDATE:20241103T020000
END:STANDARD
BEGIN:DAYLIGHT
TZNAME:AKDT
DTSTART:20230312T020000
TZOFFSETFROM:-0900
TZOFFSETTO:-0800
RDATE:20240310T020000
END:DAYLIGHT
END:VTIMEZONE
BEGIN:VEVENT
UID:15d7ddca-247d-41cf-a98d-44c76c473959
DTSTAMP:20260422T172842Z
DESCRIPTION:Yeah for the return of Square Dance and the Free Radicals!!!
DTSTART;TZID=America/Anchorage:20230512T190000
DTEND;TZID=America/Anchorage:20230512T210000
LOCATION:
SUMMARY:Square Dance with Live Music by the Free Radicals!
END:VEVENT
END:VCALENDAR
