BEGIN:VCALENDAR
VERSION:2.0
PRODID:-//www.ketchikanarts.org//NONSGML kigkonsult.se iCalcreator 2.30.10/
 /
CALSCALE:GREGORIAN
METHOD:PUBLISH
UID:547c7b93-cc2e-4a1a-9163-44f38d41fab9
X-WR-CALDESC:
X-WR-RELCALID:bd40b908a6922f51be4668637cbbb5e1
X-WR-TIMEZONE:America/Anchorage
BEGIN:VTIMEZONE
TZID:America/Anchorage
BEGIN:STANDARD
TZNAME:AKST
DTSTART:20221106T020000
TZOFFSETFROM:-0800
TZOFFSETTO:-0900
RDATE:20231105T020000
END:STANDARD
BEGIN:DAYLIGHT
TZNAME:AKDT
DTSTART:20230312T020000
TZOFFSETFROM:-0900
TZOFFSETTO:-0800
RDATE:20240310T020000
END:DAYLIGHT
END:VTIMEZONE
BEGIN:VEVENT
UID:1693c5e5-c621-443c-9c9e-a1d2bba5ddc8
DTSTAMP:20260422T173437Z
DESCRIPTION:
DTSTART;TZID=America/Anchorage:20230501T173000
DTEND;TZID=America/Anchorage:20230501T193000
LOCATION:
SUMMARY:BOOMbal Dance Hall
END:VEVENT
END:VCALENDAR
