BEGIN:VCALENDAR
VERSION:2.0
PRODID:-//www.ketchikanarts.org//NONSGML kigkonsult.se iCalcreator 2.30.10/
 /
CALSCALE:GREGORIAN
METHOD:PUBLISH
UID:99c17a41-290a-4372-a395-45a4d0c28645
X-WR-CALDESC:
X-WR-RELCALID:5272489966f1d812262095f4db528c5b
X-WR-TIMEZONE:America/Anchorage
BEGIN:VTIMEZONE
TZID:America/Anchorage
BEGIN:STANDARD
TZNAME:AKST
DTSTART:20221106T020000
TZOFFSETFROM:-0800
TZOFFSETTO:-0900
RDATE:20231105T020000
END:STANDARD
BEGIN:DAYLIGHT
TZNAME:AKDT
DTSTART:20230312T020000
TZOFFSETFROM:-0900
TZOFFSETTO:-0800
RDATE:20240310T020000
END:DAYLIGHT
END:VTIMEZONE
BEGIN:VEVENT
UID:4f8456e6-341b-43b0-a12a-ca7a9a10000f
DTSTAMP:20260422T202923Z
DESCRIPTION:
DTSTART;TZID=America/Anchorage:20230424T173000
DTEND;TZID=America/Anchorage:20230424T193000
LOCATION:
SUMMARY:BOOMbal Dance Hall
END:VEVENT
END:VCALENDAR
