BEGIN:VCALENDAR
VERSION:2.0
PRODID:-//www.ketchikanarts.org//NONSGML kigkonsult.se iCalcreator 2.30.10/
 /
CALSCALE:GREGORIAN
METHOD:PUBLISH
UID:e831afd2-298c-47d7-9e91-a064fc1a42ea
X-WR-CALDESC:
X-WR-RELCALID:757c74a53b2b5dd2b044b153ad8367a4
X-WR-TIMEZONE:America/Anchorage
BEGIN:VTIMEZONE
TZID:America/Anchorage
BEGIN:STANDARD
TZNAME:AKST
DTSTART:20221106T020000
TZOFFSETFROM:-0800
TZOFFSETTO:-0900
RDATE:20231105T020000
END:STANDARD
BEGIN:DAYLIGHT
TZNAME:AKDT
DTSTART:20230312T020000
TZOFFSETFROM:-0900
TZOFFSETTO:-0800
RDATE:20240310T020000
END:DAYLIGHT
END:VTIMEZONE
BEGIN:VEVENT
UID:8781e62a-a5e8-4b31-913b-e9525af3faf0
DTSTAMP:20260422T185212Z
DESCRIPTION:
DTSTART;TZID=America/Anchorage:20230417T173000
DTEND;TZID=America/Anchorage:20230417T193000
LOCATION:
SUMMARY:BOOMbal Dance Hall
END:VEVENT
END:VCALENDAR
