BEGIN:VCALENDAR
VERSION:2.0
PRODID:-//www.ketchikanarts.org//NONSGML kigkonsult.se iCalcreator 2.30.10/
 /
CALSCALE:GREGORIAN
METHOD:PUBLISH
UID:979a3cfa-a7b0-4ec8-84d8-56c2472f8f7d
X-WR-CALDESC:First City Players Starpath Theatre Classes with Jack Finnegan
 \nFor ages 3rd & 4th grade\, these classes help build confidence\, collabo
 ration\, critical and thinking. To sign up email info@firstcityplayers.org
 \, see under 'classes' for more information.\nFirst City Players Office - 
 11:30-12:30pm 
X-WR-RELCALID:21c0995e4944a99a101fb34c4aa55a6d
X-WR-TIMEZONE:America/Anchorage
BEGIN:VTIMEZONE
TZID:America/Anchorage
BEGIN:STANDARD
TZNAME:AKST
DTSTART:20221106T020000
TZOFFSETFROM:-0800
TZOFFSETTO:-0900
RDATE:20231105T020000
END:STANDARD
BEGIN:DAYLIGHT
TZNAME:AKDT
DTSTART:20230312T020000
TZOFFSETFROM:-0900
TZOFFSETTO:-0800
RDATE:20240310T020000
END:DAYLIGHT
END:VTIMEZONE
BEGIN:VEVENT
UID:0e1e2ae0-05bc-42c2-b479-f12b9fdd533d
DTSTAMP:20260422T185304Z
DESCRIPTION:First City Players Starpath Theatre Classes with Jack Finnegan
 \nFor ages 3rd & 4th grade\, these classes help build confidence\, collabo
 ration\, critical and thinking. To sign up email info@firstcityplayers.org
 \, see under 'classes' for more information.\nFirst City Players Office - 
 11:30-12:30pm 
DTSTART;TZID=America/Anchorage:20230401T113000
DTEND;TZID=America/Anchorage:20230401T123000
LOCATION:First City Players Office
SUMMARY:First City Players Starpath Theatre Classes with Jack Finnegan
END:VEVENT
END:VCALENDAR
