BEGIN:VCALENDAR
VERSION:2.0
PRODID:-//www.ketchikanarts.org//NONSGML kigkonsult.se iCalcreator 2.30.10/
 /
CALSCALE:GREGORIAN
METHOD:PUBLISH
UID:b5f06c6b-5aad-4b2d-b016-67e33ea0b0d4
X-WR-CALDESC:First City Players Starpath Theatre Classes with Krista Kimbal
 l\nFor ages K-2nd grade\, these classes help build confidence\, collaborat
 ion\, critical and thinking. To sign up email info@firstcityplayers.org\, 
 see under 'classes' for more information.\nFirst City Players Office - 3:3
 0 -4pm \n\nNo class 3/13
X-WR-RELCALID:b5f19761160ff5454dbad189521aaaeb
X-WR-TIMEZONE:America/Anchorage
BEGIN:VTIMEZONE
TZID:America/Anchorage
BEGIN:STANDARD
TZNAME:AKST
DTSTART:20221106T020000
TZOFFSETFROM:-0800
TZOFFSETTO:-0900
RDATE:20231105T020000
END:STANDARD
BEGIN:DAYLIGHT
TZNAME:AKDT
DTSTART:20230312T020000
TZOFFSETFROM:-0900
TZOFFSETTO:-0800
RDATE:20240310T020000
END:DAYLIGHT
END:VTIMEZONE
BEGIN:VEVENT
UID:91cbaf9a-133e-433b-9008-fced26d64be4
DTSTAMP:20260422T201129Z
DESCRIPTION:First City Players Starpath Theatre Classes with Krista Kimball
 \nFor ages K-2nd grade\, these classes help build confidence\, collaborati
 on\, critical and thinking. To sign up email info@firstcityplayers.org\, s
 ee under 'classes' for more information.\nFirst City Players Office - 3:30
  -4pm \n\nNo class 3/13
DTSTART;TZID=America/Anchorage:20230327T153000
DTEND;TZID=America/Anchorage:20230327T163000
LOCATION:First City Players Office
SUMMARY:First City Players Starpath Theatre Classes with Krista Kimball
END:VEVENT
END:VCALENDAR
