BEGIN:VCALENDAR
VERSION:2.0
PRODID:-//www.ketchikanarts.org//NONSGML kigkonsult.se iCalcreator 2.30.10/
 /
CALSCALE:GREGORIAN
METHOD:PUBLISH
UID:22f8a9f9-d5c1-4733-a66c-9e87baa2fb27
X-WR-CALDESC:Meet Kathryn Rousso at The Main Street Gallery for a knotless 
 netting class to create a basket. In this class you will be suing colorful
  wire to create a basket - bring any special buttons you would like to use
 . There will be LOTS of buttons available at the class too!\n\nThis is a t
 wo session class: March 4 & 11th from 1 to 3pm.
X-WR-RELCALID:b3945d72c3fafb31cfd89141bb6e0881
X-WR-TIMEZONE:America/Anchorage
BEGIN:VTIMEZONE
TZID:America/Anchorage
BEGIN:STANDARD
TZNAME:AKST
DTSTART:20221106T020000
TZOFFSETFROM:-0800
TZOFFSETTO:-0900
RDATE:20231105T020000
END:STANDARD
BEGIN:DAYLIGHT
TZNAME:AKDT
DTSTART:20220313T020000
TZOFFSETFROM:-0900
TZOFFSETTO:-0800
RDATE:20230312T020000
RDATE:20240310T020000
END:DAYLIGHT
END:VTIMEZONE
BEGIN:VEVENT
UID:ddbb2bbc-ea40-41be-978a-288d20bb3e05
DTSTAMP:20260422T200807Z
DESCRIPTION:Meet Kathryn Rousso at The Main Street Gallery for a knotless n
 etting class to create a basket. In this class you will be suing colorful 
 wire to create a basket - bring any special buttons you would like to use.
  There will be LOTS of buttons available at the class too!\n\nThis is a tw
 o session class: March 4 & 11th from 1 to 3pm.
DTSTART;TZID=America/Anchorage:20230311T120000
DTEND;TZID=America/Anchorage:20230311T140000
LOCATION:Main Street Gallery
SUMMARY:Arts Uncorked - with Kathryn Rousso!!!
END:VEVENT
END:VCALENDAR
