BEGIN:VCALENDAR
VERSION:2.0
PRODID:-//www.ketchikanarts.org//NONSGML kigkonsult.se iCalcreator 2.30.10/
 /
CALSCALE:GREGORIAN
METHOD:PUBLISH
UID:5ca69ade-e244-4f66-9699-8d7acaf13b99
X-WR-CALDESC:First City Players Starpath Theatre Classes with Jack Finnegan
 \nFor ages 3rd & 4th grade\, these classes help build confidence\, collabo
 ration\, critical and thinking. To sign up email info@firstcityplayers.org
 \, see under 'classes' for more information.\nFirst City Players Office - 
 11:30-12:30pm 
X-WR-RELCALID:09172a1a04bdc85faca7bcce3ab939f5
X-WR-TIMEZONE:America/Anchorage
BEGIN:VTIMEZONE
TZID:America/Anchorage
BEGIN:STANDARD
TZNAME:AKST
DTSTART:20221106T020000
TZOFFSETFROM:-0800
TZOFFSETTO:-0900
RDATE:20231105T020000
END:STANDARD
BEGIN:DAYLIGHT
TZNAME:AKDT
DTSTART:20220313T020000
TZOFFSETFROM:-0900
TZOFFSETTO:-0800
RDATE:20230312T020000
RDATE:20240310T020000
END:DAYLIGHT
END:VTIMEZONE
BEGIN:VEVENT
UID:8abcbc3e-fe00-4564-8713-7427b76fb81b
DTSTAMP:20260422T214633Z
DESCRIPTION:First City Players Starpath Theatre Classes with Jack Finnegan
 \nFor ages 3rd & 4th grade\, these classes help build confidence\, collabo
 ration\, critical and thinking. To sign up email info@firstcityplayers.org
 \, see under 'classes' for more information.\nFirst City Players Office - 
 11:30-12:30pm 
DTSTART;TZID=America/Anchorage:20230311T113000
DTEND;TZID=America/Anchorage:20230311T123000
LOCATION:First City Players Office
SUMMARY:First City Players Starpath Theatre Classes with Jack Finnegan
END:VEVENT
END:VCALENDAR
