BEGIN:VCALENDAR
VERSION:2.0
PRODID:-//www.ketchikanarts.org//NONSGML kigkonsult.se iCalcreator 2.30.10/
 /
CALSCALE:GREGORIAN
METHOD:PUBLISH
UID:13c6dd47-acb5-46a6-9441-d40a77f5e731
X-WR-CALDESC:First City Players Starpath Theatre Classes with Krista Kimbal
 l\nFor ages K-2nd grade\, these classes help build confidence\, collaborat
 ion\, critical and thinking. To sign up email info@firstcityplayers.org\, 
 see under 'classes' for more information.\nFirst City Players Office - 3:3
 0 -4pm \n\nNo class 3/13
X-WR-RELCALID:ddb8a2ad16c9ac56fe4b367829e74c5f
X-WR-TIMEZONE:America/Anchorage
BEGIN:VTIMEZONE
TZID:America/Anchorage
BEGIN:STANDARD
TZNAME:AKST
DTSTART:20221106T020000
TZOFFSETFROM:-0800
TZOFFSETTO:-0900
RDATE:20231105T020000
END:STANDARD
BEGIN:DAYLIGHT
TZNAME:AKDT
DTSTART:20220313T020000
TZOFFSETFROM:-0900
TZOFFSETTO:-0800
RDATE:20230312T020000
RDATE:20240310T020000
END:DAYLIGHT
END:VTIMEZONE
BEGIN:VEVENT
UID:e11e8b93-5a9e-4a1e-9c9d-f2bbd9e2ce20
DTSTAMP:20260422T201130Z
DESCRIPTION:First City Players Starpath Theatre Classes with Krista Kimball
 \nFor ages K-2nd grade\, these classes help build confidence\, collaborati
 on\, critical and thinking. To sign up email info@firstcityplayers.org\, s
 ee under 'classes' for more information.\nFirst City Players Office - 3:30
  -4pm \n\nNo class 3/13
DTSTART;TZID=America/Anchorage:20230306T153000
DTEND;TZID=America/Anchorage:20230306T163000
LOCATION:First City Players Office
SUMMARY:First City Players Starpath Theatre Classes with Krista Kimball
END:VEVENT
END:VCALENDAR
