BEGIN:VCALENDAR
VERSION:2.0
PRODID:-//www.ketchikanarts.org//NONSGML kigkonsult.se iCalcreator 2.30.10/
 /
CALSCALE:GREGORIAN
METHOD:PUBLISH
UID:d79f4fa3-3a0d-44eb-b6cc-1a3d7dd2eea1
X-WR-CALDESC:First City Players Starpath Theatre Classes with Jack Finnegan
 \nFor ages 3rd & 4th grade\, these classes help build confidence\, collabo
 ration\, critical and thinking. To sign up email info@firstcityplayers.org
 \, see under 'classes' for more information.\nFirst City Players Office - 
 11:30-12:30pm 
X-WR-RELCALID:57a00e3cee696e356046589e9f02d871
X-WR-TIMEZONE:America/Anchorage
BEGIN:VTIMEZONE
TZID:America/Anchorage
BEGIN:STANDARD
TZNAME:AKST
DTSTART:20221106T020000
TZOFFSETFROM:-0800
TZOFFSETTO:-0900
RDATE:20231105T020000
END:STANDARD
BEGIN:DAYLIGHT
TZNAME:AKDT
DTSTART:20220313T020000
TZOFFSETFROM:-0900
TZOFFSETTO:-0800
RDATE:20230312T020000
RDATE:20240310T020000
END:DAYLIGHT
END:VTIMEZONE
BEGIN:VEVENT
UID:194a5559-b2bd-4bda-8d0b-3efaece99a0b
DTSTAMP:20260422T225530Z
DESCRIPTION:First City Players Starpath Theatre Classes with Jack Finnegan
 \nFor ages 3rd & 4th grade\, these classes help build confidence\, collabo
 ration\, critical and thinking. To sign up email info@firstcityplayers.org
 \, see under 'classes' for more information.\nFirst City Players Office - 
 11:30-12:30pm 
DTSTART;TZID=America/Anchorage:20230225T113000
DTEND;TZID=America/Anchorage:20230225T123000
LOCATION:First City Players Office
SUMMARY:First City Players Starpath Theatre Classes with Jack Finnegan
END:VEVENT
END:VCALENDAR
