BEGIN:VCALENDAR
VERSION:2.0
PRODID:-//www.ketchikanarts.org//NONSGML kigkonsult.se iCalcreator 2.30.10/
 /
CALSCALE:GREGORIAN
METHOD:PUBLISH
UID:409691ac-39bc-4463-8fd0-c72a34049aa5
X-WR-CALDESC:
X-WR-RELCALID:ef2cd32dd9f72e14274ba9946ced6155
X-WR-TIMEZONE:America/Anchorage
BEGIN:VTIMEZONE
TZID:America/Anchorage
BEGIN:STANDARD
TZNAME:AKST
DTSTART:20221106T020000
TZOFFSETFROM:-0800
TZOFFSETTO:-0900
RDATE:20231105T020000
END:STANDARD
BEGIN:DAYLIGHT
TZNAME:AKDT
DTSTART:20220313T020000
TZOFFSETFROM:-0900
TZOFFSETTO:-0800
RDATE:20230312T020000
RDATE:20240310T020000
END:DAYLIGHT
END:VTIMEZONE
BEGIN:VEVENT
UID:6e54ec4c-ac19-46cf-8c02-aa562d6ac570
DTSTAMP:20260422T225123Z
DESCRIPTION:
DTSTART;TZID=America/Anchorage:20230213T170000
DTEND;TZID=America/Anchorage:20230213T190000
LOCATION:Just Dandy
SUMMARY:La Gwelga Lak Adaaws Sessions
END:VEVENT
END:VCALENDAR
