BEGIN:VCALENDAR
VERSION:2.0
PRODID:-//www.ketchikanarts.org//NONSGML kigkonsult.se iCalcreator 2.30.10/
 /
CALSCALE:GREGORIAN
METHOD:PUBLISH
UID:60755c9a-4e61-4dac-9a64-548c70b27aeb
X-WR-CALDESC:The KCCB rehearses every Monday at the Ketchikan First Assembl
 y of God\, beginning at 7pm. KCCB is working toward their April 223 perfor
 mance.
X-WR-RELCALID:f3b37608a6d0771d99bd76b5d91d25ad
X-WR-TIMEZONE:America/Anchorage
BEGIN:VTIMEZONE
TZID:America/Anchorage
BEGIN:STANDARD
TZNAME:AKST
DTSTART:20221106T020000
TZOFFSETFROM:-0800
TZOFFSETTO:-0900
RDATE:20231105T020000
END:STANDARD
BEGIN:DAYLIGHT
TZNAME:AKDT
DTSTART:20220313T020000
TZOFFSETFROM:-0900
TZOFFSETTO:-0800
RDATE:20230312T020000
RDATE:20240310T020000
END:DAYLIGHT
END:VTIMEZONE
BEGIN:VEVENT
UID:8061db3a-2946-4e70-b6b7-361f2c4767f1
DTSTAMP:20260422T230430Z
DESCRIPTION:The KCCB rehearses every Monday at the Ketchikan First Assembly
  of God\, beginning at 7pm. KCCB is working toward their April 223 perform
 ance.
DTSTART;TZID=America/Anchorage:20230213T190000
DTEND;TZID=America/Anchorage:20230213T203000
LOCATION:3225 Fairview Ave\, Ketchikan\, AK 99001 US
SUMMARY:Ketchikan Community Concert Band Rehearsal
END:VEVENT
END:VCALENDAR
