BEGIN:VCALENDAR
VERSION:2.0
PRODID:-//www.ketchikanarts.org//NONSGML kigkonsult.se iCalcreator 2.30.10/
 /
CALSCALE:GREGORIAN
METHOD:PUBLISH
UID:a6770036-bffd-4761-99c0-a474a001e7cb
X-WR-CALDESC:The KCCB rehearses every Monday at the Ketchikan First Assembl
 y of God\, beginning at 7pm. KCCB is working toward their April 223 perfor
 mance.
X-WR-RELCALID:5a87d866cd6e41f4adf7ad379ad1c025
X-WR-TIMEZONE:America/Anchorage
BEGIN:VTIMEZONE
TZID:America/Anchorage
BEGIN:STANDARD
TZNAME:AKST
DTSTART:20221106T020000
TZOFFSETFROM:-0800
TZOFFSETTO:-0900
RDATE:20231105T020000
END:STANDARD
BEGIN:DAYLIGHT
TZNAME:AKDT
DTSTART:20220313T020000
TZOFFSETFROM:-0900
TZOFFSETTO:-0800
RDATE:20230312T020000
RDATE:20240310T020000
END:DAYLIGHT
END:VTIMEZONE
BEGIN:VEVENT
UID:747d5d82-cb6d-402c-8a50-26c1f549b1de
DTSTAMP:20260422T231909Z
DESCRIPTION:The KCCB rehearses every Monday at the Ketchikan First Assembly
  of God\, beginning at 7pm. KCCB is working toward their April 223 perform
 ance.
DTSTART;TZID=America/Anchorage:20230206T190000
DTEND;TZID=America/Anchorage:20230206T203000
LOCATION:3225 Fairview Ave\, Ketchikan\, AK 99001 US
SUMMARY:Ketchikan Community Concert Band Rehearsal
END:VEVENT
END:VCALENDAR
