BEGIN:VCALENDAR
VERSION:2.0
PRODID:-//www.ketchikanarts.org//NONSGML kigkonsult.se iCalcreator 2.30.10/
 /
CALSCALE:GREGORIAN
METHOD:PUBLISH
UID:e9e98bd8-354d-4ed7-be50-f40124d68ef1
X-WR-CALDESC:This is a workshop on science communication through crafts\, l
 earn to create temperature Afghan through crochet. Materials and instructi
 ons are included \, stop by the Ketchikan campus or call 907- 2284511 for 
 more information
X-WR-RELCALID:152f40bb301492332c49e777853315c5
X-WR-TIMEZONE:America/Anchorage
BEGIN:VTIMEZONE
TZID:America/Anchorage
BEGIN:STANDARD
TZNAME:AKST
DTSTART:20221106T020000
TZOFFSETFROM:-0800
TZOFFSETTO:-0900
RDATE:20231105T020000
END:STANDARD
BEGIN:DAYLIGHT
TZNAME:AKDT
DTSTART:20220313T020000
TZOFFSETFROM:-0900
TZOFFSETTO:-0800
RDATE:20230312T020000
RDATE:20240310T020000
END:DAYLIGHT
END:VTIMEZONE
BEGIN:VEVENT
UID:5e18e459-bc59-4cfc-9a72-2db10b71ab23
DTSTAMP:20260423T002403Z
DESCRIPTION:This is a workshop on science communication through crafts\, le
 arn to create temperature Afghan through crochet. Materials and instructio
 ns are included \, stop by the Ketchikan campus or call 907- 2284511 for m
 ore information
DTSTART;TZID=America/Anchorage:20230128T133000
DTEND;TZID=America/Anchorage:20230128T150000
LOCATION:UAS Ketchikan Library
SUMMARY:Community Workshop: Craft & Science Communication
END:VEVENT
END:VCALENDAR
