BEGIN:VCALENDAR
VERSION:2.0
PRODID:-//www.ketchikanarts.org//NONSGML kigkonsult.se iCalcreator 2.30.10/
 /
CALSCALE:GREGORIAN
METHOD:PUBLISH
UID:f6dcf99b-1a11-4f3c-85c1-128f4eff44a9
X-WR-CALDESC:The KCCB rehearses every Monday at the Ketchikan First Assembl
 y of God\, beginning at 7pm. KCCB is working toward their April 223 perfor
 mance.
X-WR-RELCALID:e9359cef23a63de4c2619ab2edd4529a
X-WR-TIMEZONE:America/Anchorage
BEGIN:VTIMEZONE
TZID:America/Anchorage
BEGIN:STANDARD
TZNAME:AKST
DTSTART:20221106T020000
TZOFFSETFROM:-0800
TZOFFSETTO:-0900
RDATE:20231105T020000
END:STANDARD
BEGIN:DAYLIGHT
TZNAME:AKDT
DTSTART:20220313T020000
TZOFFSETFROM:-0900
TZOFFSETTO:-0800
RDATE:20230312T020000
RDATE:20240310T020000
END:DAYLIGHT
END:VTIMEZONE
BEGIN:VEVENT
UID:cbb1eb5d-64e4-445d-a9e1-b0441531aae1
DTSTAMP:20260423T002916Z
DESCRIPTION:The KCCB rehearses every Monday at the Ketchikan First Assembly
  of God\, beginning at 7pm. KCCB is working toward their April 223 perform
 ance.
DTSTART;TZID=America/Anchorage:20230123T190000
DTEND;TZID=America/Anchorage:20230123T203000
LOCATION:3225 Fairview Ave\, Ketchikan\, AK 99001 US
SUMMARY:Ketchikan Community Concert Band Rehearsal
END:VEVENT
END:VCALENDAR
