BEGIN:VCALENDAR
VERSION:2.0
PRODID:-//www.ketchikanarts.org//NONSGML kigkonsult.se iCalcreator 2.30.10/
 /
CALSCALE:GREGORIAN
METHOD:PUBLISH
UID:510cb6b1-2c88-45ae-bb76-68d3ca5e2d65
X-WR-CALDESC:First City Players 2023 Jazz & Cabaret Workshop\nUnplugged wit
 h Matt King at 5:30pm-Ketchikan High School\nGreat American Songbook with 
 Nicki Denner at 5:30pm-Ketchikan High School\nBroadway Showtunes with Nick
 i Dinner at 7:30 - Ketchikan High School\nJust Jazz with Matt King at 7:30
 - Ketchikan High School\nThese workshops run Monday\, Wednesday\, Friday. 
 Click the above link to register or call 907 225 4792\, spots are limited 
 $150 for workshop.
X-WR-RELCALID:83af2f0d95eaddd32ff343c5d1ea7f89
X-WR-TIMEZONE:America/Anchorage
BEGIN:VTIMEZONE
TZID:America/Anchorage
BEGIN:STANDARD
TZNAME:AKST
DTSTART:20221106T020000
TZOFFSETFROM:-0800
TZOFFSETTO:-0900
RDATE:20231105T020000
END:STANDARD
BEGIN:DAYLIGHT
TZNAME:AKDT
DTSTART:20220313T020000
TZOFFSETFROM:-0900
TZOFFSETTO:-0800
RDATE:20230312T020000
RDATE:20240310T020000
END:DAYLIGHT
END:VTIMEZONE
BEGIN:VEVENT
UID:ed914eae-e1d9-4094-bb33-2d861201cfab
DTSTAMP:20260423T002753Z
DESCRIPTION:First City Players 2023 Jazz & Cabaret Workshop\nUnplugged with
  Matt King at 5:30pm-Ketchikan High School\nGreat American Songbook with N
 icki Denner at 5:30pm-Ketchikan High School\nBroadway Showtunes with Nicki
  Dinner at 7:30 - Ketchikan High School\nJust Jazz with Matt King at 7:30-
  Ketchikan High School\nThese workshops run Monday\, Wednesday\, Friday. C
 lick the above link to register or call 907 225 4792\, spots are limited $
 150 for workshop.
DTSTART;TZID=America/Anchorage:20230109T173000
DTEND;TZID=America/Anchorage:20230109T183000
LOCATION:Ketchikan High School
SUMMARY:First City Players 2023 Jazz & Cabaret Workshops
END:VEVENT
END:VCALENDAR
