BEGIN:VCALENDAR
VERSION:2.0
PRODID:-//www.ketchikanarts.org//NONSGML kigkonsult.se iCalcreator 2.30.10/
 /
CALSCALE:GREGORIAN
METHOD:PUBLISH
UID:0217798b-231d-47ef-8145-843060fea72b
X-WR-CALDESC:All ages welcome!
X-WR-RELCALID:40219d9a7e5229aec2a409f47a473204
X-WR-TIMEZONE:America/Anchorage
BEGIN:VTIMEZONE
TZID:America/Anchorage
BEGIN:STANDARD
TZNAME:AKST
DTSTART:20221106T020000
TZOFFSETFROM:-0800
TZOFFSETTO:-0900
RDATE:20231105T020000
END:STANDARD
BEGIN:DAYLIGHT
TZNAME:AKDT
DTSTART:20220313T020000
TZOFFSETFROM:-0900
TZOFFSETTO:-0800
RDATE:20230312T020000
RDATE:20240310T020000
END:DAYLIGHT
END:VTIMEZONE
BEGIN:VEVENT
UID:b2f052ff-0f69-4d06-9d0e-a591cf0c4360
DTSTAMP:20260423T020712Z
DESCRIPTION:All ages welcome!
DTSTART;TZID=America/Anchorage:20221217T103000
DTEND;TZID=America/Anchorage:20221217T113000
LOCATION:Ketchikan Public Library
SUMMARY:Japanese Language & Culture class for families
END:VEVENT
END:VCALENDAR
