BEGIN:VCALENDAR
VERSION:2.0
PRODID:-//www.ketchikanarts.org//NONSGML kigkonsult.se iCalcreator 2.30.10/
 /
CALSCALE:GREGORIAN
METHOD:PUBLISH
UID:5f37cb81-9645-42b5-8af5-3974cc8330c7
X-WR-CALDESC:Join the Ketchikan Public Library in creating a fun Christmas 
 themed craft\, materials are provided and class is free to attend. This cl
 ass will be making a No-sew Quilted Star.
X-WR-RELCALID:c0816691c266f86be275cb145c06c094
X-WR-TIMEZONE:America/Anchorage
BEGIN:VTIMEZONE
TZID:America/Anchorage
BEGIN:STANDARD
TZNAME:AKST
DTSTART:20221106T020000
TZOFFSETFROM:-0800
TZOFFSETTO:-0900
RDATE:20231105T020000
END:STANDARD
BEGIN:DAYLIGHT
TZNAME:AKDT
DTSTART:20220313T020000
TZOFFSETFROM:-0900
TZOFFSETTO:-0800
RDATE:20230312T020000
RDATE:20240310T020000
END:DAYLIGHT
END:VTIMEZONE
BEGIN:VEVENT
UID:a98e7f4e-e34c-4c18-8215-59e7c4c62839
DTSTAMP:20260423T020700Z
DESCRIPTION:Join the Ketchikan Public Library in creating a fun Christmas t
 hemed craft\, materials are provided and class is free to attend. This cla
 ss will be making a No-sew Quilted Star.
DTSTART;TZID=America/Anchorage:20221210T100000
DTEND;TZID=America/Anchorage:20221210T110000
LOCATION:Ketchikan Public Library
SUMMARY:Adult Christmas Craft
END:VEVENT
END:VCALENDAR
