BEGIN:VCALENDAR
VERSION:2.0
PRODID:-//www.ketchikanarts.org//NONSGML kigkonsult.se iCalcreator 2.30.10/
 /
CALSCALE:GREGORIAN
METHOD:PUBLISH
UID:5ef40ca0-c6ed-4d70-8a11-a8178372f479
X-WR-CALDESC:Taxaide Program Instructor\, Nancy Tietje shares her tax knowl
 edge with artists just in time for end of year book keeping!  This in-pers
 on\, one hourish workshop will focus on record keeping\, resources\, and w
 hat to be aware of.  \n\nTopics will be: \n\n    What is your tax liabilit
 y?  \n    Best practices for record keeping\, including what to keep track
  of and ideas on how.\n    Other items to consider to lower your tax liabi
 lity.\n    Extra credit given to all those who bring in their own Schedule
  C find it at https://www.irs.gov\n    Schedule C will be available at the
  class.\n\n5:30 - 6:30 in person at the Main Street Gallery\, 330 Main Str
 eet\, Ketchikan\, Alaska\n\nClass size is limited.  Register NOW!!!
X-WR-RELCALID:7effc21d492afa762fd663de155f3199
X-WR-TIMEZONE:America/Anchorage
BEGIN:VTIMEZONE
TZID:America/Anchorage
BEGIN:STANDARD
TZNAME:AKST
DTSTART:20221106T020000
TZOFFSETFROM:-0800
TZOFFSETTO:-0900
RDATE:20231105T020000
END:STANDARD
BEGIN:DAYLIGHT
TZNAME:AKDT
DTSTART:20220313T020000
TZOFFSETFROM:-0900
TZOFFSETTO:-0800
RDATE:20230312T020000
RDATE:20240310T020000
END:DAYLIGHT
END:VTIMEZONE
BEGIN:VEVENT
UID:183aacb5-5009-494a-aaba-6b66b6db48e7
DTSTAMP:20260423T020427Z
DESCRIPTION:Taxaide Program Instructor\, Nancy Tietje shares her tax knowle
 dge with artists just in time for end of year book keeping!  This in-perso
 n\, one hourish workshop will focus on record keeping\, resources\, and wh
 at to be aware of.  \n\nTopics will be: \n\n    What is your tax liability
 ?  \n    Best practices for record keeping\, including what to keep track 
 of and ideas on how.\n    Other items to consider to lower your tax liabil
 ity.\n    Extra credit given to all those who bring in their own Schedule 
 C find it at https://www.irs.gov\n    Schedule C will be available at the 
 class.\n\n5:30 - 6:30 in person at the Main Street Gallery\, 330 Main Stre
 et\, Ketchikan\, Alaska\n\nClass size is limited.  Register NOW!!!
DTSTART;TZID=America/Anchorage:20221208T173000
DTEND;TZID=America/Anchorage:20221208T183000
LOCATION:Main Street Gallery
SUMMARY:Artist Professional Development Series!
END:VEVENT
END:VCALENDAR
