BEGIN:VCALENDAR
VERSION:2.0
PRODID:-//www.ketchikanarts.org//NONSGML kigkonsult.se iCalcreator 2.30.10/
 /
CALSCALE:GREGORIAN
METHOD:PUBLISH
UID:c02358ba-acf9-4f6a-8e12-621df6314fff
X-WR-CALDESC:Instructor: DORICA JACKSON\nNovember 28 – December 10\, 2022\n
 Mon. – Fri. 6-9:00 p.m.\, Sat. 1 – 4:00 p.m.\n$200\n(materials up to $125)
 \n\nDorica Jackson is recognized for her high level of mastery and the int
 ricacy and precision of her work. She has been weaving and teaching to hel
 p regrow this art form since a time when few carried the knowledge of Chil
 kat weaving. Students will learn the basics of Chilkat weaving and complet
 e a small Chilkat square. This class counts toward a Certificate of Merit 
 in Weaving.\n\nRegistration for Fall classes opens at 1:00 p.m. on Tuesday
 \, October 11\, 2022. You are welcome to register via phone (907.225.5900)
 \, email\, or stop by the Totem Heritage Center.
X-WR-RELCALID:e04637e1b6d508f3f3296a601ce2ebe8
X-WR-TIMEZONE:America/Anchorage
BEGIN:VTIMEZONE
TZID:America/Anchorage
BEGIN:STANDARD
TZNAME:AKST
DTSTART:20221106T020000
TZOFFSETFROM:-0800
TZOFFSETTO:-0900
RDATE:20231105T020000
END:STANDARD
BEGIN:DAYLIGHT
TZNAME:AKDT
DTSTART:20220313T020000
TZOFFSETFROM:-0900
TZOFFSETTO:-0800
RDATE:20230312T020000
RDATE:20240310T020000
END:DAYLIGHT
END:VTIMEZONE
BEGIN:VEVENT
UID:58de80e2-ed0d-4628-be62-b1b164142196
DTSTAMP:20260423T035049Z
DESCRIPTION:Instructor: DORICA JACKSON\nNovember 28 – December 10\, 2022\nM
 on. – Fri. 6-9:00 p.m.\, Sat. 1 – 4:00 p.m.\n$200\n(materials up to $125)
 \n\nDorica Jackson is recognized for her high level of mastery and the int
 ricacy and precision of her work. She has been weaving and teaching to hel
 p regrow this art form since a time when few carried the knowledge of Chil
 kat weaving. Students will learn the basics of Chilkat weaving and complet
 e a small Chilkat square. This class counts toward a Certificate of Merit 
 in Weaving.\n\nRegistration for Fall classes opens at 1:00 p.m. on Tuesday
 \, October 11\, 2022. You are welcome to register via phone (907.225.5900)
 \, email\, or stop by the Totem Heritage Center.
DTSTART;TZID=America/Anchorage:20221129T180000
DTEND;TZID=America/Anchorage:20221211T210000
LOCATION:Totem Heritage Center
SUMMARY:Beginning Chilkat Weaving with Dorica Jackson
END:VEVENT
END:VCALENDAR
