BEGIN:VCALENDAR
VERSION:2.0
PRODID:-//www.ketchikanarts.org//NONSGML kigkonsult.se iCalcreator 2.30.10/
 /
CALSCALE:GREGORIAN
METHOD:PUBLISH
UID:a3a72596-2f97-40d3-b006-bbe9ff61de68
X-WR-CALDESC:Instructor: DORICA JACKSON\nNovember 28 – December 10\, 2022\n
 Mon. – Fri. 6-9:00 p.m.\, Sat. 1 – 4:00 p.m.\n$200\n(materials up to $125)
 \n\nDorica Jackson is recognized for her high level of mastery and the int
 ricacy and precision of her work. She has been weaving and teaching to hel
 p regrow this art form since a time when few carried the knowledge of Chil
 kat weaving. Students will learn the basics of Chilkat weaving and complet
 e a small Chilkat square. This class counts toward a Certificate of Merit 
 in Weaving.\n\nRegistration for Fall classes opens at 1:00 p.m. on Tuesday
 \, October 11\, 2022. You are welcome to register via phone (907.225.5900)
 \, email\, or stop by the Totem Heritage Center.
X-WR-RELCALID:722141ecab0d8bfdfeedf6036f72576c
X-WR-TIMEZONE:America/Anchorage
BEGIN:VTIMEZONE
TZID:America/Anchorage
BEGIN:STANDARD
TZNAME:AKST
DTSTART:20221106T020000
TZOFFSETFROM:-0800
TZOFFSETTO:-0900
RDATE:20231105T020000
END:STANDARD
BEGIN:DAYLIGHT
TZNAME:AKDT
DTSTART:20220313T020000
TZOFFSETFROM:-0900
TZOFFSETTO:-0800
RDATE:20230312T020000
RDATE:20240310T020000
END:DAYLIGHT
END:VTIMEZONE
BEGIN:VEVENT
UID:001e4487-3b18-4e4b-8901-c12645d72fed
DTSTAMP:20260423T035050Z
DESCRIPTION:Instructor: DORICA JACKSON\nNovember 28 – December 10\, 2022\nM
 on. – Fri. 6-9:00 p.m.\, Sat. 1 – 4:00 p.m.\n$200\n(materials up to $125)
 \n\nDorica Jackson is recognized for her high level of mastery and the int
 ricacy and precision of her work. She has been weaving and teaching to hel
 p regrow this art form since a time when few carried the knowledge of Chil
 kat weaving. Students will learn the basics of Chilkat weaving and complet
 e a small Chilkat square. This class counts toward a Certificate of Merit 
 in Weaving.\n\nRegistration for Fall classes opens at 1:00 p.m. on Tuesday
 \, October 11\, 2022. You are welcome to register via phone (907.225.5900)
 \, email\, or stop by the Totem Heritage Center.
DTSTART;TZID=America/Anchorage:20221128T180000
DTEND;TZID=America/Anchorage:20221210T210000
LOCATION:Totem Heritage Center
SUMMARY:Beginning Chilkat Weaving with Dorica Jackson
END:VEVENT
END:VCALENDAR
