BEGIN:VCALENDAR
VERSION:2.0
PRODID:-//www.ketchikanarts.org//NONSGML kigkonsult.se iCalcreator 2.30.10/
 /
CALSCALE:GREGORIAN
METHOD:PUBLISH
UID:30eb6859-f817-473e-a60b-8cf87904ff67
X-WR-CALDESC:The Ketchikan Chamber Orchestra rehearses each Wednesday from 
 6:30pm to 8pm. Rehearsal locations are currently in flux\, but are either 
 at the First Lutheran Church sanctuary\, or the Schoenbar Middle School Ba
 nd Room. The Ketchikan Chamber Orchestra is rehearsing for its November 27
 th performance during the IDEA Festival. KCO will be sharing the stage wit
 h the Ketchikan Community Chorus in 'Singers and Strings: Bringing Back th
 e Music'\n\n'Singers and Strings: Bringing Back the Music'\nSunday\, Novem
 ber 27\, 3pm\nKayhi Auditorium\nTickets $20\, Youth 18 and younger free\n
 \nTickets available soon!
X-WR-RELCALID:8fdba7e665c94e43045882df3c095293
X-WR-TIMEZONE:America/Anchorage
BEGIN:VTIMEZONE
TZID:America/Anchorage
BEGIN:STANDARD
TZNAME:AKST
DTSTART:20221106T020000
TZOFFSETFROM:-0800
TZOFFSETTO:-0900
RDATE:20231105T020000
END:STANDARD
BEGIN:DAYLIGHT
TZNAME:AKDT
DTSTART:20220313T020000
TZOFFSETFROM:-0900
TZOFFSETTO:-0800
RDATE:20230312T020000
RDATE:20240310T020000
END:DAYLIGHT
END:VTIMEZONE
BEGIN:VEVENT
UID:24e09346-7d26-462e-b770-072d1e7c04f2
DTSTAMP:20260423T035301Z
DESCRIPTION:The Ketchikan Chamber Orchestra rehearses each Wednesday from 6
 :30pm to 8pm. Rehearsal locations are currently in flux\, but are either a
 t the First Lutheran Church sanctuary\, or the Schoenbar Middle School Ban
 d Room. The Ketchikan Chamber Orchestra is rehearsing for its November 27t
 h performance during the IDEA Festival. KCO will be sharing the stage with
  the Ketchikan Community Chorus in 'Singers and Strings: Bringing Back the
  Music'\n\n'Singers and Strings: Bringing Back the Music'\nSunday\, Novemb
 er 27\, 3pm\nKayhi Auditorium\nTickets $20\, Youth 18 and younger free\n\n
 Tickets available soon!
DTSTART;TZID=America/Anchorage:20221123T183000
DTEND;TZID=America/Anchorage:20221123T200000
LOCATION:
SUMMARY:Ketchikan Chamber Orchestra Rehearsal
END:VEVENT
END:VCALENDAR
