BEGIN:VCALENDAR
VERSION:2.0
PRODID:-//www.ketchikanarts.org//NONSGML kigkonsult.se iCalcreator 2.30.10/
 /
CALSCALE:GREGORIAN
METHOD:PUBLISH
UID:506bda18-d703-44bd-a1a2-66cd0ed40c76
X-WR-CALDESC:Ages 5 and up\n$110.00\n\nLearn how to make abstract art by un
 derstanding the use of color\, composition\, negative space\, and contrast
 . They will use a variety of mediums in each piece. Students will be chall
 enged to be bold and to push the boundaries of what art is by encouraging 
 them to have no expectations of the outcome. They will be guided them to t
 rust their artistic intuitions and follow their hearts while creating thei
 r abstract masterpieces!\n\nRegister with the link below.
X-WR-RELCALID:49ca74c1326c69a84a37277b7e3d7bc4
X-WR-TIMEZONE:America/Anchorage
BEGIN:VTIMEZONE
TZID:America/Anchorage
BEGIN:STANDARD
TZNAME:AKST
DTSTART:20221106T020000
TZOFFSETFROM:-0800
TZOFFSETTO:-0900
RDATE:20231105T020000
END:STANDARD
BEGIN:DAYLIGHT
TZNAME:AKDT
DTSTART:20220313T020000
TZOFFSETFROM:-0900
TZOFFSETTO:-0800
RDATE:20230312T020000
RDATE:20240310T020000
END:DAYLIGHT
END:VTIMEZONE
BEGIN:VEVENT
UID:dfb00fe2-63b2-45b8-82b7-26d82af59a97
DTSTAMP:20260423T035030Z
DESCRIPTION:Ages 5 and up\n$110.00\n\nLearn how to make abstract art by und
 erstanding the use of color\, composition\, negative space\, and contrast.
  They will use a variety of mediums in each piece. Students will be challe
 nged to be bold and to push the boundaries of what art is by encouraging t
 hem to have no expectations of the outcome. They will be guided them to tr
 ust their artistic intuitions and follow their hearts while creating their
  abstract masterpieces!\n\nRegister with the link below.
DTSTART;TZID=America/Anchorage:20221122T160000
DTEND;TZID=America/Anchorage:20221122T173000
LOCATION:The Artery
SUMMARY:The Artery 'Abstract Art' Class
END:VEVENT
END:VCALENDAR
