BEGIN:VCALENDAR
VERSION:2.0
PRODID:-//www.ketchikanarts.org//NONSGML kigkonsult.se iCalcreator 2.30.10/
 /
CALSCALE:GREGORIAN
METHOD:PUBLISH
UID:6db197a6-fe34-48da-8d33-abe2e35c7960
X-WR-CALDESC:Ages 13 and up\n$110.00\n\nIn this class\, they will visualize
  and generate plans for ideas to create art that projects positivity. They
  will look at how art can influence culture and the human experience. Stud
 ents will use a number of different materials such as paint\, drawing supp
 lies\, cardboard\, adhesives\, and wire to create positive message-themed 
 art designed to make people smile!\n\nRegister with the link below.
X-WR-RELCALID:c7a309d7e2b8a598b1c57824b680f753
X-WR-TIMEZONE:America/Anchorage
BEGIN:VTIMEZONE
TZID:America/Anchorage
BEGIN:STANDARD
TZNAME:AKST
DTSTART:20221106T020000
TZOFFSETFROM:-0800
TZOFFSETTO:-0900
RDATE:20231105T020000
END:STANDARD
BEGIN:DAYLIGHT
TZNAME:AKDT
DTSTART:20220313T020000
TZOFFSETFROM:-0900
TZOFFSETTO:-0800
RDATE:20230312T020000
RDATE:20240310T020000
END:DAYLIGHT
END:VTIMEZONE
BEGIN:VEVENT
UID:331e5bb5-cb9e-4f57-a95d-81e0345ace00
DTSTAMP:20260423T035402Z
DESCRIPTION:Ages 13 and up\n$110.00\n\nIn this class\, they will visualize 
 and generate plans for ideas to create art that projects positivity. They 
 will look at how art can influence culture and the human experience. Stude
 nts will use a number of different materials such as paint\, drawing suppl
 ies\, cardboard\, adhesives\, and wire to create positive message-themed a
 rt designed to make people smile!\n\nRegister with the link below.
DTSTART;TZID=America/Anchorage:20221109T153000
DTEND;TZID=America/Anchorage:20221109T170000
LOCATION:The Artery
SUMMARY:The Artery 'Teen Art: Inspiring Positivity Through Art' Class
END:VEVENT
END:VCALENDAR
