BEGIN:VCALENDAR
VERSION:2.0
PRODID:-//www.ketchikanarts.org//NONSGML kigkonsult.se iCalcreator 2.30.10/
 /
CALSCALE:GREGORIAN
METHOD:PUBLISH
UID:413eba2b-d965-4fd4-a7ce-4d168a8213e0
X-WR-CALDESC:The KCCB rehearses every Monday at the Ketchikan First Assembl
 y of God\, beginning at 7pm. KCCB is working toward their November 26th pe
 rformance during  the IDEA Festival.
X-WR-RELCALID:649d84d89934817048c3ed5d89ef1c63
X-WR-TIMEZONE:America/Anchorage
BEGIN:VTIMEZONE
TZID:America/Anchorage
BEGIN:STANDARD
TZNAME:AKST
DTSTART:20211107T020000
TZOFFSETFROM:-0800
TZOFFSETTO:-0900
RDATE:20221106T020000
RDATE:20231105T020000
END:STANDARD
BEGIN:DAYLIGHT
TZNAME:AKDT
DTSTART:20220313T020000
TZOFFSETFROM:-0900
TZOFFSETTO:-0800
RDATE:20230312T020000
RDATE:20240310T020000
END:DAYLIGHT
END:VTIMEZONE
BEGIN:VEVENT
UID:06b5a049-e0b1-49bb-ba60-d4dac76273c3
DTSTAMP:20260423T035403Z
DESCRIPTION:The KCCB rehearses every Monday at the Ketchikan First Assembly
  of God\, beginning at 7pm. KCCB is working toward their November 26th per
 formance during  the IDEA Festival.
DTSTART;TZID=America/Anchorage:20221107T190000
DTEND;TZID=America/Anchorage:20221107T203000
LOCATION:3225 Fairview Ave\, Ketchikan\, AK 99001 US
SUMMARY:Ketchikan Community Concert Band Rehearsal
END:VEVENT
END:VCALENDAR
