BEGIN:VCALENDAR
VERSION:2.0
PRODID:-//www.ketchikanarts.org//NONSGML kigkonsult.se iCalcreator 2.30.10/
 /
CALSCALE:GREGORIAN
METHOD:PUBLISH
UID:b5c0b5df-7378-41a5-95fe-deb373051757
X-WR-CALDESC:Learn to sew skins!\n\nSealaska Heritage\, in partnership with
  Ketchikan Indian Community (KIC)\, will sponsor an in-person\, hand skin-
 sewing workshop in Ketchikan with teacher Louise Kadinger from Nov. 3-6 Th
 ursday & Friday 5-8:30 pm\,  Saturday & Sunday 9am - 5:30 pmSpace is limit
 ed. \n\nApply: bit.ly/KTN-SkinSewing \n\n$100 fee covers a sea otter hide 
 at a $350 value\, as well as patterns\, supplies\, and instruction. Schola
 rships are available through KIC. Flyer: https://bit.ly/3CyRQXM\n\nELIGIBI
 LITY\nIn accordance with the Marine Mammal Protection Act\, use of sea ott
 er hide is limited to those with 1/4 Alaska Native blood quantum or greate
 r and with a copy of their Certificate of Indian Blood issued by the Burea
 u of Indian Affairs or Tribal I.D. card issued by a federally recognized A
 laska Native Tribe.
X-WR-RELCALID:65a6c3dd69c25910a02899dd25d2a2c2
X-WR-TIMEZONE:America/Anchorage
BEGIN:VTIMEZONE
TZID:America/Anchorage
BEGIN:STANDARD
TZNAME:AKST
DTSTART:20211107T020000
TZOFFSETFROM:-0800
TZOFFSETTO:-0900
RDATE:20221106T020000
RDATE:20231105T020000
END:STANDARD
BEGIN:DAYLIGHT
TZNAME:AKDT
DTSTART:20220313T020000
TZOFFSETFROM:-0900
TZOFFSETTO:-0800
RDATE:20230312T020000
RDATE:20240310T020000
END:DAYLIGHT
END:VTIMEZONE
BEGIN:VEVENT
UID:6fa7f188-4072-4422-9c6a-72abd90c22f9
DTSTAMP:20260423T035203Z
DESCRIPTION:Learn to sew skins!\n\nSealaska Heritage\, in partnership with 
 Ketchikan Indian Community (KIC)\, will sponsor an in-person\, hand skin-s
 ewing workshop in Ketchikan with teacher Louise Kadinger from Nov. 3-6 Thu
 rsday & Friday 5-8:30 pm\,  Saturday & Sunday 9am - 5:30 pmSpace is limite
 d. \n\nApply: bit.ly/KTN-SkinSewing \n\n$100 fee covers a sea otter hide a
 t a $350 value\, as well as patterns\, supplies\, and instruction. Scholar
 ships are available through KIC. Flyer: https://bit.ly/3CyRQXM\n\nELIGIBIL
 ITY\nIn accordance with the Marine Mammal Protection Act\, use of sea otte
 r hide is limited to those with 1/4 Alaska Native blood quantum or greater
  and with a copy of their Certificate of Indian Blood issued by the Bureau
  of Indian Affairs or Tribal I.D. card issued by a federally recognized Al
 aska Native Tribe.
DTSTART;TZID=America/Anchorage:20221105T170000
DTEND;TZID=America/Anchorage:20221105T203000
LOCATION:
SUMMARY:Skin Sewing with Louise Kadinger
END:VEVENT
END:VCALENDAR
