BEGIN:VCALENDAR
VERSION:2.0
PRODID:-//www.ketchikanarts.org//NONSGML kigkonsult.se iCalcreator 2.30.10/
 /
CALSCALE:GREGORIAN
METHOD:PUBLISH
UID:827ae033-5110-463b-84e8-e7c259f472d0
X-WR-CALDESC:Mon\, Wed\, Thursday & Friday 5:30-8:30 pm Sun 10 am-4:30 pm (
 $225) Materials up to $175 \n\nHolly Churchill will instruct beginning stu
 dents in learning and practicing foundational Tlingit and Tsimshian cedar 
 bark weaving methods. Students will learn basic twining and other techniqu
 es foundational to cedar bark weaving. This class counts toward a Certific
 ate of Merit in Weaving and is a prerequisite for all upper-level weaving 
 classes.\n\nRegistration for Fall classes opens at 1:00 p.m. on Tuesday\, 
 October 11\, 2022. You are welcome to register via phone (907.225.5900)\, 
 email\, or stop by the Totem Heritage Center.
X-WR-RELCALID:3ed43e7ba99df73bf065ff77393ff2c0
X-WR-TIMEZONE:America/Anchorage
BEGIN:VTIMEZONE
TZID:America/Anchorage
BEGIN:STANDARD
TZNAME:AKST
DTSTART:20211107T020000
TZOFFSETFROM:-0800
TZOFFSETTO:-0900
RDATE:20221106T020000
RDATE:20231105T020000
END:STANDARD
BEGIN:DAYLIGHT
TZNAME:AKDT
DTSTART:20220313T020000
TZOFFSETFROM:-0900
TZOFFSETTO:-0800
RDATE:20230312T020000
RDATE:20240310T020000
END:DAYLIGHT
END:VTIMEZONE
BEGIN:VEVENT
UID:5a1adc1f-68bf-4805-bc23-f9f7b77e93c0
DTSTAMP:20260423T034829Z
DESCRIPTION:Mon\, Wed\, Thursday & Friday 5:30-8:30 pm Sun 10 am-4:30 pm ($
 225) Materials up to $175 \n\nHolly Churchill will instruct beginning stud
 ents in learning and practicing foundational Tlingit and Tsimshian cedar b
 ark weaving methods. Students will learn basic twining and other technique
 s foundational to cedar bark weaving. This class counts toward a Certifica
 te of Merit in Weaving and is a prerequisite for all upper-level weaving c
 lasses.\n\nRegistration for Fall classes opens at 1:00 p.m. on Tuesday\, O
 ctober 11\, 2022. You are welcome to register via phone (907.225.5900)\, e
 mail\, or stop by the Totem Heritage Center.
DTSTART;TZID=America/Anchorage:20221102T173000
DTEND;TZID=America/Anchorage:20221116T183000
LOCATION:Totem Heritage Center
SUMMARY:Beginning/Intermediate Cedar Bark Weaving with Holly Churchill
END:VEVENT
END:VCALENDAR
