BEGIN:VCALENDAR
VERSION:2.0
PRODID:-//www.ketchikanarts.org//NONSGML kigkonsult.se iCalcreator 2.30.10/
 /
CALSCALE:GREGORIAN
METHOD:PUBLISH
UID:7724bee8-3217-4710-a363-4b2e3d15115a
X-WR-CALDESC:The Ketchikan Community Chorus is rehearsing for its Winter pe
 rformance at the IDEA Festival. KCC will be sharing the stage with the Ket
 chikan Chamber Orchestra in a performance titled 'Singers and Strings - Br
 inging Back the Music'!\n\n'Singers and Strings - Bringing Back the Music'
 \nSunday\, November 27th\, 3:00pm\nKayhi Auditorium\nTickets $20\, free fo
 r youth under 18\n\nTickets available soon!
X-WR-RELCALID:488c0a9525e7fd3015bcb0c0617a2c76
X-WR-TIMEZONE:America/Anchorage
BEGIN:VTIMEZONE
TZID:America/Anchorage
BEGIN:STANDARD
TZNAME:AKST
DTSTART:20211107T020000
TZOFFSETFROM:-0800
TZOFFSETTO:-0900
RDATE:20221106T020000
RDATE:20231105T020000
END:STANDARD
BEGIN:DAYLIGHT
TZNAME:AKDT
DTSTART:20220313T020000
TZOFFSETFROM:-0900
TZOFFSETTO:-0800
RDATE:20230312T020000
RDATE:20240310T020000
END:DAYLIGHT
END:VTIMEZONE
BEGIN:VEVENT
UID:ba88eb0e-f3ab-44fc-826d-851626a6edd1
DTSTAMP:20260423T054444Z
DESCRIPTION:The Ketchikan Community Chorus is rehearsing for its Winter per
 formance at the IDEA Festival. KCC will be sharing the stage with the Ketc
 hikan Chamber Orchestra in a performance titled 'Singers and Strings - Bri
 nging Back the Music'!\n\n'Singers and Strings - Bringing Back the Music'
 \nSunday\, November 27th\, 3:00pm\nKayhi Auditorium\nTickets $20\, free fo
 r youth under 18\n\nTickets available soon!
DTSTART;TZID=America/Anchorage:20221025T190000
DTEND;TZID=America/Anchorage:20221025T210000
LOCATION:2711 2nd Ave \, Ketchikan\, AK 99901 US
SUMMARY:Ketchikan Community Chorus Rehearsal
END:VEVENT
END:VCALENDAR
