BEGIN:VCALENDAR
VERSION:2.0
PRODID:-//www.ketchikanarts.org//NONSGML kigkonsult.se iCalcreator 2.30.10/
 /
CALSCALE:GREGORIAN
METHOD:PUBLISH
UID:b37d978a-e6a7-4145-a2af-447fb3a74951
X-WR-CALDESC:Wire wrapping crystal trees with succulents mediation garden. 
 Call pre- registration\, spaces are limited
X-WR-RELCALID:3089a18225bf7133f2f0c41d9b4970d2
X-WR-TIMEZONE:America/Anchorage
BEGIN:VTIMEZONE
TZID:America/Anchorage
BEGIN:STANDARD
TZNAME:AKST
DTSTART:20211107T020000
TZOFFSETFROM:-0800
TZOFFSETTO:-0900
RDATE:20221106T020000
RDATE:20231105T020000
END:STANDARD
BEGIN:DAYLIGHT
TZNAME:AKDT
DTSTART:20220313T020000
TZOFFSETFROM:-0900
TZOFFSETTO:-0800
RDATE:20230312T020000
RDATE:20240310T020000
END:DAYLIGHT
END:VTIMEZONE
BEGIN:VEVENT
UID:dda15cc6-3e55-47b9-b3d4-70ae48c2a873
DTSTAMP:20260423T052819Z
DESCRIPTION:Wire wrapping crystal trees with succulents mediation garden. C
 all pre- registration\, spaces are limited
DTSTART;TZID=America/Anchorage:20221019T180000
DTEND;TZID=America/Anchorage:20221019T200000
LOCATION:810 Water Street\, Ketchikan AK 99901
SUMMARY:Amber Lords Wire Wrapping Class
END:VEVENT
END:VCALENDAR
