BEGIN:VCALENDAR
VERSION:2.0
PRODID:-//www.ketchikanarts.org//NONSGML kigkonsult.se iCalcreator 2.30.10/
 /
CALSCALE:GREGORIAN
METHOD:PUBLISH
UID:10694b8c-87c9-4899-b551-608dec3a9ca5
X-WR-CALDESC:The KCCB rehearses every Monday at the Ketchikan First Assembl
 y of God\, beginning at 7pm. KCCB is working toward their November 26th pe
 rformance during  the IDEA Festival.
X-WR-RELCALID:b2e425271bf25f3e5540aaacc108c055
X-WR-TIMEZONE:America/Anchorage
BEGIN:VTIMEZONE
TZID:America/Anchorage
BEGIN:STANDARD
TZNAME:AKST
DTSTART:20211107T020000
TZOFFSETFROM:-0800
TZOFFSETTO:-0900
RDATE:20221106T020000
RDATE:20231105T020000
END:STANDARD
BEGIN:DAYLIGHT
TZNAME:AKDT
DTSTART:20220313T020000
TZOFFSETFROM:-0900
TZOFFSETTO:-0800
RDATE:20230312T020000
RDATE:20240310T020000
END:DAYLIGHT
END:VTIMEZONE
BEGIN:VEVENT
UID:791801a9-6438-413d-aed6-ccb353ff49ea
DTSTAMP:20260423T054510Z
DESCRIPTION:The KCCB rehearses every Monday at the Ketchikan First Assembly
  of God\, beginning at 7pm. KCCB is working toward their November 26th per
 formance during  the IDEA Festival.
DTSTART;TZID=America/Anchorage:20221017T190000
DTEND;TZID=America/Anchorage:20221017T203000
LOCATION:3225 Fairview Ave\, Ketchikan\, AK 99001 US
SUMMARY:Ketchikan Community Concert Band Rehearsal
END:VEVENT
END:VCALENDAR
