BEGIN:VCALENDAR
VERSION:2.0
PRODID:-//www.ketchikanarts.org//NONSGML kigkonsult.se iCalcreator 2.30.10/
 /
CALSCALE:GREGORIAN
METHOD:PUBLISH
UID:af55d4ec-20c2-40bb-af3f-232d1954083a
X-WR-CALDESC:Intro to wire bending and weaving
X-WR-RELCALID:265b7e89cc01b106322d4b41587655ac
X-WR-TIMEZONE:America/Anchorage
BEGIN:VTIMEZONE
TZID:America/Anchorage
BEGIN:STANDARD
TZNAME:AKST
DTSTART:20211107T020000
TZOFFSETFROM:-0800
TZOFFSETTO:-0900
RDATE:20221106T020000
RDATE:20231105T020000
END:STANDARD
BEGIN:DAYLIGHT
TZNAME:AKDT
DTSTART:20220313T020000
TZOFFSETFROM:-0900
TZOFFSETTO:-0800
RDATE:20230312T020000
RDATE:20240310T020000
END:DAYLIGHT
END:VTIMEZONE
BEGIN:VEVENT
UID:4bc0e39d-4f70-454e-aed9-e301d71462ef
DTSTAMP:20260423T053105Z
DESCRIPTION:Intro to wire bending and weaving
DTSTART;TZID=America/Anchorage:20221012T180000
DTEND;TZID=America/Anchorage:20221012T200000
LOCATION:810 Water Street\, Ketchikan AK 99901
SUMMARY:Amber Lords Wire Wrapping Class
END:VEVENT
END:VCALENDAR
