BEGIN:VCALENDAR
VERSION:2.0
PRODID:-//www.ketchikanarts.org//NONSGML kigkonsult.se iCalcreator 2.30.10/
 /
CALSCALE:GREGORIAN
METHOD:PUBLISH
UID:e1e7538b-b6b9-48b0-8394-1d38882011cd
X-WR-CALDESC:Artist Julie Berg-Linville delves into the narrative of island
  life’s boundaries in this series of coastal paintings.
X-WR-RELCALID:05236873a8335e4e9bae4f558ad7e2c2
X-WR-TIMEZONE:America/Anchorage
BEGIN:VTIMEZONE
TZID:America/Anchorage
BEGIN:STANDARD
TZNAME:AKST
DTSTART:20181104T020000
TZOFFSETFROM:-0800
TZOFFSETTO:-0900
RDATE:20191103T020000
RDATE:20201101T020000
END:STANDARD
BEGIN:DAYLIGHT
TZNAME:AKDT
DTSTART:20190310T020000
TZOFFSETFROM:-0900
TZOFFSETTO:-0800
RDATE:20200308T020000
RDATE:20210314T020000
END:DAYLIGHT
END:VTIMEZONE
BEGIN:VEVENT
UID:695fbe5a-d7a1-4c1c-94a5-4cc987013938
DTSTAMP:20260425T123453Z
DESCRIPTION:Artist Julie Berg-Linville delves into the narrative of island 
 life’s boundaries in this series of coastal paintings.
DTSTART;TZID=America/Anchorage:20191005T110000
DTEND;TZID=America/Anchorage:20191025T150000
LOCATION:Main Street Gallery
SUMMARY:'Perimeter' - an exhibit by Julie Berg-Linville at the Main Street 
 Gallery
END:VEVENT
END:VCALENDAR
