BEGIN:VCALENDAR
VERSION:2.0
PRODID:-//www.ketchikanarts.org//NONSGML kigkonsult.se iCalcreator 2.30.10/
 /
CALSCALE:GREGORIAN
METHOD:PUBLISH
UID:74c127f2-91d4-40db-9130-2da17ca98bea
X-WR-CALDESC:Artist Julie Berg-Linville delves into the narrative of island
  life’s boundaries in this series of impressionistic coastal paintings.\n
 \nOpening Receptions are always free and open to the public!
X-WR-RELCALID:911d8b4f3c97ecf00dd88123ddc76d59
X-WR-TIMEZONE:America/Anchorage
BEGIN:VTIMEZONE
TZID:America/Anchorage
BEGIN:STANDARD
TZNAME:AKST
DTSTART:20181104T020000
TZOFFSETFROM:-0800
TZOFFSETTO:-0900
RDATE:20191103T020000
RDATE:20201101T020000
END:STANDARD
BEGIN:DAYLIGHT
TZNAME:AKDT
DTSTART:20190310T020000
TZOFFSETFROM:-0900
TZOFFSETTO:-0800
RDATE:20200308T020000
RDATE:20210314T020000
END:DAYLIGHT
END:VTIMEZONE
BEGIN:VEVENT
UID:ae10fe78-e9b9-443a-ab73-6ac144017f54
DTSTAMP:20260425T123540Z
DESCRIPTION:Artist Julie Berg-Linville delves into the narrative of island 
 life’s boundaries in this series of impressionistic coastal paintings.\n\n
 Opening Receptions are always free and open to the public!
DTSTART;TZID=America/Anchorage:20191004T170000
DTEND;TZID=America/Anchorage:20191004T200000
LOCATION:Main Street Gallery
SUMMARY:Opening Reception - 'Perimeter' - an exhibit by Julie Berg-Linville
  at the Main Street Gallery
END:VEVENT
END:VCALENDAR
