BEGIN:VCALENDAR
VERSION:2.0
PRODID:-//www.ketchikanarts.org//NONSGML kigkonsult.se iCalcreator 2.30.10/
 /
CALSCALE:GREGORIAN
METHOD:PUBLISH
UID:fed6b403-6bd3-4e4b-b331-66f82e31a21b
X-WR-CALDESC:New painting and drawing combinations from artist Cammie May\,
  inspired by the magic of Southeast Alaska\, full of color\, detail\, and 
 wonder.\nThe exhibit runs September 6th - September 27th..
X-WR-RELCALID:1dcfd7f75706d804babe047910bfafe7
X-WR-TIMEZONE:America/Anchorage
BEGIN:VTIMEZONE
TZID:America/Anchorage
BEGIN:STANDARD
TZNAME:AKST
DTSTART:20181104T020000
TZOFFSETFROM:-0800
TZOFFSETTO:-0900
RDATE:20191103T020000
RDATE:20201101T020000
END:STANDARD
BEGIN:DAYLIGHT
TZNAME:AKDT
DTSTART:20190310T020000
TZOFFSETFROM:-0900
TZOFFSETTO:-0800
RDATE:20200308T020000
END:DAYLIGHT
END:VTIMEZONE
BEGIN:VEVENT
UID:471b954d-0cf3-4be4-a5e6-d4f7ad1ff3e5
DTSTAMP:20260425T135143Z
DESCRIPTION:New painting and drawing combinations from artist Cammie May\, 
 inspired by the magic of Southeast Alaska\, full of color\, detail\, and w
 onder.\nThe exhibit runs September 6th - September 27th..
DTSTART;TZID=America/Anchorage:20190907T110000
DTEND;TZID=America/Anchorage:20190927T170000
LOCATION:Main Street Gallery
SUMMARY:'Lucidity' a Solo Exhibit by Cammie May at the Main Street Gallery
END:VEVENT
END:VCALENDAR
