BEGIN:VCALENDAR
VERSION:2.0
PRODID:-//www.ketchikanarts.org//NONSGML kigkonsult.se iCalcreator 2.30.10/
 /
CALSCALE:GREGORIAN
METHOD:PUBLISH
UID:6d31ec65-8a72-4913-8d24-71c95104bb79
X-WR-CALDESC:
X-WR-RELCALID:fbc328f04cb310f3e1fe1b8192c23d01
X-WR-TIMEZONE:America/Anchorage
BEGIN:VTIMEZONE
TZID:America/Anchorage
BEGIN:STANDARD
TZNAME:AKST
DTSTART:20251102T020000
TZOFFSETFROM:-0800
TZOFFSETTO:-0900
RDATE:20261101T020000
END:STANDARD
BEGIN:DAYLIGHT
TZNAME:AKDT
DTSTART:20260308T020000
TZOFFSETFROM:-0900
TZOFFSETTO:-0800
RDATE:20270314T020000
END:DAYLIGHT
END:VTIMEZONE
BEGIN:VEVENT
UID:1d1533f2-7352-4383-9a5e-eb3990c045f6
DTSTAMP:20260424T092542Z
DESCRIPTION:
DTSTART;TZID=America/Anchorage:20260425T080000
DTEND;TZID=America/Anchorage:20260425T170000
LOCATION:See website for details!
SUMMARY:Totem to Totem Half Marathon - Ketchikan Running Club
END:VEVENT
END:VCALENDAR
