BEGIN:VCALENDAR
VERSION:2.0
PRODID:-//www.ketchikanarts.org//NONSGML kigkonsult.se iCalcreator 2.30.10/
 /
CALSCALE:GREGORIAN
METHOD:PUBLISH
UID:811a4205-4cdd-4301-b770-60c96397ee12
X-WR-CALDESC:
X-WR-RELCALID:82a0dcb007cb8925c044a084ea0a6a9e
X-WR-TIMEZONE:America/Anchorage
BEGIN:VTIMEZONE
TZID:America/Anchorage
BEGIN:STANDARD
TZNAME:AKST
DTSTART:20251102T020000
TZOFFSETFROM:-0800
TZOFFSETTO:-0900
RDATE:20261101T020000
END:STANDARD
BEGIN:DAYLIGHT
TZNAME:AKDT
DTSTART:20260308T020000
TZOFFSETFROM:-0900
TZOFFSETTO:-0800
RDATE:20270314T020000
END:DAYLIGHT
END:VTIMEZONE
BEGIN:VEVENT
UID:ae3871da-2408-4f02-93ce-bccf74c17f52
DTSTAMP:20260424T092241Z
DESCRIPTION:
DTSTART;TZID=America/Anchorage:20260425T190000
DTEND;TZID=America/Anchorage:20260425T203000
LOCATION:First United Methodist Church
SUMMARY:Ketchikan Community Chorus 225-Year Tribute Concert
END:VEVENT
END:VCALENDAR
